{
 "currentVersion": 10.71,
 "cimVersion": "2.4.0",
 "serviceDescription": "Property",
 "mapName": "agol_base_generic",
 "description": "",
 "copyrightText": "",
 "supportsDynamicLayers": true,
 "layers": [
  {
   "id": 0,
   "name": "Hamilton City Boundary",
   "parentLayerId": -1,
   "defaultVisibility": true,
   "subLayerIds": null,
   "minScale": 0,
   "maxScale": 0,
   "type": "Feature Layer",
   "geometryType": "esriGeometryPolygon",
   "supportsDynamicLegends": true
  },
  {
   "id": 1,
   "name": "Road Name",
   "parentLayerId": -1,
   "defaultVisibility": true,
   "subLayerIds": null,
   "minScale": 50000,
   "maxScale": 0,
   "type": "Feature Layer",
   "geometryType": "esriGeometryPolyline",
   "supportsDynamicLegends": true
  },
  {
   "id": 2,
   "name": "House Number",
   "parentLayerId": -1,
   "defaultVisibility": true,
   "subLayerIds": null,
   "minScale": 2500,
   "maxScale": 0,
   "type": "Feature Layer",
   "geometryType": "esriGeometryPoint",
   "supportsDynamicLegends": true
  },
  {
   "id": 3,
   "name": "Property Ratable",
   "parentLayerId": -1,
   "defaultVisibility": true,
   "subLayerIds": null,
   "minScale": 16000,
   "maxScale": 0,
   "type": "Feature Layer",
   "geometryType": "esriGeometryPolygon",
   "supportsDynamicLegends": true
  },
  {
   "id": 4,
   "name": "Property Non-Ratable",
   "parentLayerId": -1,
   "defaultVisibility": true,
   "subLayerIds": null,
   "minScale": 16000,
   "maxScale": 0,
   "type": "Feature Layer",
   "geometryType": "esriGeometryPolygon",
   "supportsDynamicLegends": true
  },
  {
   "id": 5,
   "name": "Road Segment",
   "parentLayerId": -1,
   "defaultVisibility": true,
   "subLayerIds": null,
   "minScale": 0,
   "maxScale": 16000,
   "type": "Feature Layer",
   "geometryType": "esriGeometryPolygon",
   "supportsDynamicLegends": true
  }
 ],
 "tables": [],
 "spatialReference": {
  "wkid": 2193,
  "latestWkid": 2193,
  "xyTolerance": 0.001,
  "zTolerance": 0.001,
  "mTolerance": 0.001,
  "falseX": -4020900,
  "falseY": 1900,
  "xyUnits": 10000,
  "falseZ": -100000,
  "zUnits": 10000,
  "falseM": -100000,
  "mUnits": 10000
 },
 "singleFusedMapCache": true,
 "tileInfo": {
  "rows": 256,
  "cols": 256,
  "dpi": 96,
  "format": "MIXED",
  "compressionQuality": 75,
  "origin": {
   "x": -4020900,
   "y": 19998100
  },
  "spatialReference": {
   "wkid": 2193,
   "latestWkid": 2193,
   "xyTolerance": 0.001,
   "zTolerance": 0.001,
   "mTolerance": 0.001,
   "falseX": -4020900,
   "falseY": 1900,
   "xyUnits": 4.504455473910538E8,
   "falseZ": -100000,
   "zUnits": 10000,
   "falseM": -100000,
   "mUnits": 10000
  },
  "lods": [
   {
    "level": 0,
    "resolution": 66.1459656252646,
    "scale": 250000
   },
   {
    "level": 1,
    "resolution": 33.0729828126323,
    "scale": 125000
   },
   {
    "level": 2,
    "resolution": 16.933367200067735,
    "scale": 64000
   },
   {
    "level": 3,
    "resolution": 8.466683600033868,
    "scale": 32000
   },
   {
    "level": 4,
    "resolution": 4.233341800016934,
    "scale": 16000
   },
   {
    "level": 5,
    "resolution": 2.116670900008467,
    "scale": 8000
   },
   {
    "level": 6,
    "resolution": 1.0583354500042335,
    "scale": 4000
   },
   {
    "level": 7,
    "resolution": 0.9260435187537043,
    "scale": 3500
   },
   {
    "level": 8,
    "resolution": 0.7937515875031751,
    "scale": 3000
   },
   {
    "level": 9,
    "resolution": 0.6614596562526459,
    "scale": 2500
   },
   {
    "level": 10,
    "resolution": 0.5291677250021167,
    "scale": 2000
   },
   {
    "level": 11,
    "resolution": 0.46302175937685214,
    "scale": 1750
   },
   {
    "level": 12,
    "resolution": 0.39687579375158755,
    "scale": 1500
   },
   {
    "level": 13,
    "resolution": 0.33072982812632296,
    "scale": 1250
   },
   {
    "level": 14,
    "resolution": 0.26458386250105836,
    "scale": 1000
   },
   {
    "level": 15,
    "resolution": 0.19843789687579377,
    "scale": 750
   },
   {
    "level": 16,
    "resolution": 0.13229193125052918,
    "scale": 500
   },
   {
    "level": 17,
    "resolution": 0.06614596562526459,
    "scale": 250
   }
  ]
 },
 "initialExtent": {
  "xmin": 1783495.0778541372,
  "ymin": 5805127.493076088,
  "xmax": 1817586.2909458622,
  "ymax": 5828428.58142391,
  "spatialReference": {
   "wkid": 2193,
   "latestWkid": 2193,
   "xyTolerance": 0.001,
   "zTolerance": 0.001,
   "mTolerance": 0.001,
   "falseX": -4020900,
   "falseY": 1900,
   "xyUnits": 10000,
   "falseZ": -100000,
   "zUnits": 10000,
   "falseM": -100000,
   "mUnits": 10000
  }
 },
 "fullExtent": {
  "xmin": 1067061.1999000004,
  "ymin": 4701317.1817,
  "xmax": 2523319.4486,
  "ymax": 6242140.2959,
  "spatialReference": {
   "wkid": 2193,
   "latestWkid": 2193,
   "xyTolerance": 0.001,
   "zTolerance": 0.001,
   "mTolerance": 0.001,
   "falseX": -4020900,
   "falseY": 1900,
   "xyUnits": 10000,
   "falseZ": -100000,
   "zUnits": 10000,
   "falseM": -100000,
   "mUnits": 10000
  }
 },
 "minScale": 250000,
 "maxScale": 250,
 "units": "esriMeters",
 "supportedImageFormatTypes": "PNG32,PNG24,PNG,JPG,DIB,TIFF,EMF,PS,PDF,GIF,SVG,SVGZ,BMP",
 "documentInfo": {
  "Title": "Propertydd",
  "Author": "",
  "Comments": "Property",
  "Subject": "Property",
  "Category": "",
  "AntialiasingMode": "Fast",
  "TextAntialiasingMode": "Force",
  "Keywords": "Property"
 },
 "capabilities": "Map,Query,Data",
 "supportedQueryFormats": "JSON, geoJSON, PBF",
 "exportTilesAllowed": false,
 "datumTransformations": [
  {
   "geoTransforms": [
    {
     "wkid": 108001,
     "latestWkid": 1241,
     "transformForward": true,
     "name": "NAD_1927_To_NAD_1983_NADCON"
    }
   ]
  },
  {
   "geoTransforms": [
    {
     "wkid": 108001,
     "latestWkid": 1241,
     "transformForward": false,
     "name": "NAD_1927_To_NAD_1983_NADCON"
    }
   ]
  }
 ],
 "supportsDatumTransformation": true,
 "archivingInfo": {
  "supportsHistoricMoment": false
 },
 "maxRecordCount": 2000,
 "maxImageHeight": 4096,
 "maxImageWidth": 4096,
 "supportedExtensions": ""
}
