View In:
ArcGIS JavaScript
Portal Map Viewer
ArcGIS Earth
ArcMap
ArcGIS Pro
View Footprint In:
Portal Map Viewer
Service Description:
Map Name: hcc_overlandflowpaths_2019
Legend
All Layers and Tables
Dynamic Legend
Dynamic All Layers
Layers:
Description:
Copyright Text:
Spatial Reference:
2193
(2193)
Single Fused Map Cache: true
Tile Info:
- Height: 256
- Width: 256
- DPI: 96
-
Levels of Detail: 24
-
Level ID: 0
[ Start Tile, End Tile ]
- Resolution: 156543.03392799935
- Scale: 5.91657527591552E8
-
Level ID: 1
[ Start Tile, End Tile ]
- Resolution: 78271.51696399967
- Scale: 2.95828763795776E8
-
Level ID: 2
[ Start Tile, End Tile ]
- Resolution: 39135.75848199984
- Scale: 1.47914381897888E8
-
Level ID: 3
[ Start Tile, End Tile ]
- Resolution: 19567.87924099992
- Scale: 7.3957190948944E7
-
Level ID: 4
[ Start Tile, End Tile ]
- Resolution: 9783.93962049996
- Scale: 3.6978595474472E7
-
Level ID: 5
[ Start Tile, End Tile ]
- Resolution: 4891.96981024998
- Scale: 1.8489297737236E7
- Format: MIXED
- Compression Quality: 80.0
- Origin: X: -4020900.0
Y: 1.99981E7
- Spatial Reference: 2193
(2193)
Initial Extent:
XMin: 1745575.3778809342
YMin: 5729964.439301549
XMax: 1851648.4412703346
YMax: 5865684.057612852
Spatial Reference: 2193
(2193)
Full Extent:
XMin: 1788362.9537000004
YMin: 5805498.9621
XMax: 1809210.9537000004
YMax: 5830741.9621
Spatial Reference: 2193
(2193)
Units: esriMeters
Supported Image Format Types: PNG32,PNG24,PNG,JPG,DIB,TIFF,EMF,PS,PDF,GIF,SVG,SVGZ,BMP
Document Info:
Title: Map1
Author:
Comments: <DIV STYLE="text-align:Left;font-size:12pt"><P><SPAN>OLFP2019_VTPK</SPAN></P></DIV>
Subject: OLFP2019_VTPK
Category:
Keywords: Flood Hazard
AntialiasingMode: Fast
TextAntialiasingMode: Force
Supports Dynamic Layers: true
MaxRecordCount: 1000
MaxImageHeight: 3072
MaxImageWidth: 3072
Supported Query Formats: JSON, geoJSON, PBF
Min Scale: 5.91657527591552E8
Max Scale: 70.5310735
Supports Datum Transformation: true
Child Resources:
Info
Dynamic Layer
Supported Operations:
Export Map
Identify
QueryDomains
QueryLegends
Find
Return Updates